BEGIN:VCALENDAR
VERSION:2.0
PRODID:-//www.trphd.ne.gov//NONSGML kigkonsult.se iCalcreator 2.30.10//
CALSCALE:GREGORIAN
METHOD:PUBLISH
UID:5010837c-41e7-47f6-9f54-232def992d62
X-WR-CALDESC:We will meet at the Lexington Library on July 9th from 10 AM -
  11:30 AM. We will discuss progress since the last stakeholder meeting and
  next steps for the program.
X-WR-RELCALID:d107eb1c43bdc085683670c7f21ec07b
X-WR-TIMEZONE:America/Chicago
BEGIN:VTIMEZONE
TZID:America/Chicago
BEGIN:STANDARD
TZNAME:CST
DTSTART:20171105T020000
TZOFFSETFROM:-0500
TZOFFSETTO:-0600
RDATE:20181104T020000
RDATE:20191103T020000
END:STANDARD
BEGIN:DAYLIGHT
TZNAME:CDT
DTSTART:20180311T020000
TZOFFSETFROM:-0600
TZOFFSETTO:-0500
RDATE:20190310T020000
END:DAYLIGHT
END:VTIMEZONE
BEGIN:VEVENT
UID:9805641a-3f27-434d-b3f5-b9f4c3e15539
DTSTAMP:20260420T081244Z
DESCRIPTION:We will meet at the Lexington Library on July 9th from 10 AM - 
 11:30 AM. We will discuss progress since the last stakeholder meeting and 
 next steps for the program.
DTSTART;TZID=America/Chicago:20180709T100000
DTEND;TZID=America/Chicago:20180709T113000
LOCATION:Lexington Library
SUMMARY:Lexington Stakeholder Meeting | Violence Prevention
END:VEVENT
END:VCALENDAR
